Package: basilisk.utils Version: 1.18.0 Command: /home/biocbuild/bbs-3.20-bioc/R/bin/R CMD check --install=check:basilisk.utils.install-out.txt --library=/home/biocbuild/bbs-3.20-bioc/R/site-library --timings basilisk.utils_1.18.0.tar.gz StartedAt: 2025-03-31 20:02:41 -0400 (Mon, 31 Mar 2025) EndedAt: 2025-03-31 20:03:02 -0400 (Mon, 31 Mar 2025) EllapsedTime: 21.0 seconds RetCode: 0 Status: OK CheckDir: basilisk.utils.Rcheck Warnings: 0