Package: basecallQC Version: 1.30.0 Command: F:\biocbuild\bbs-3.20-bioc\R\bin\R.exe CMD INSTALL basecallQC StartedAt: 2025-03-31 16:26:55 -0400 (Mon, 31 Mar 2025) EndedAt: 2025-03-31 16:28:25 -0400 (Mon, 31 Mar 2025) EllapsedTime: 90.2 seconds RetCode: 0 Status: OK