Package: basecallQC Version: 1.30.0 Command: rm -rf basecallQC.buildbin-libdir && mkdir basecallQC.buildbin-libdir && F:\biocbuild\bbs-3.20-bioc\R\bin\R.exe CMD INSTALL --build --library=basecallQC.buildbin-libdir basecallQC_1.30.0.tar.gz StartedAt: 2025-01-28 07:40:35 -0500 (Tue, 28 Jan 2025) EndedAt: 2025-01-28 07:45:31 -0500 (Tue, 28 Jan 2025) EllapsedTime: 296.5 seconds RetCode: 0 Status: OK PackageFile: basecallQC_1.30.0.zip PackageFileSize: 1.135 MiB