Package: basecallQC Version: 1.30.0 Command: /Library/Frameworks/R.framework/Resources/bin/R CMD check --install=check:basecallQC.install-out.txt --library=/Library/Frameworks/R.framework/Resources/library --no-vignettes --timings basecallQC_1.30.0.tar.gz StartedAt: 2025-03-31 23:33:52 -0400 (Mon, 31 Mar 2025) EndedAt: 2025-03-31 23:49:24 -0400 (Mon, 31 Mar 2025) EllapsedTime: 932.1 seconds RetCode: 0 Status: OK CheckDir: basecallQC.Rcheck Warnings: 0