Package: basecallQC Version: 1.30.0 Command: rm -rf basecallQC.buildbin-libdir && mkdir basecallQC.buildbin-libdir && /Users/biocbuild/BBS/utils/build-universal.sh basecallQC_1.30.0.tar.gz /Library/Frameworks/R.framework/Resources/bin/R basecallQC.buildbin-libdir StartedAt: 2025-04-01 11:26:44 -0400 (Tue, 01 Apr 2025) EndedAt: 2025-04-01 11:28:43 -0400 (Tue, 01 Apr 2025) EllapsedTime: 118.7 seconds RetCode: 0 Status: OK PackageFile: basecallQC_1.30.0.tgz PackageFileSize: 1.259 MiB