Package: basecallQC Version: 1.30.0 Command: rm -rf basecallQC.buildbin-libdir && mkdir basecallQC.buildbin-libdir && /Users/biocbuild/BBS/utils/build-universal.sh basecallQC_1.30.0.tar.gz /Library/Frameworks/R.framework/Resources/bin/R basecallQC.buildbin-libdir StartedAt: 2025-04-02 13:22:59 -0400 (Wed, 02 Apr 2025) EndedAt: 2025-04-02 13:24:07 -0400 (Wed, 02 Apr 2025) EllapsedTime: 67.6 seconds RetCode: 0 Status: OK PackageFile: basecallQC_1.30.0.tgz PackageFileSize: 1.26 MiB