Package: banocc Version: 1.30.0 Command: F:\biocbuild\bbs-3.20-bioc\R\bin\R.exe CMD INSTALL banocc StartedAt: 2025-03-31 15:35:28 -0400 (Mon, 31 Mar 2025) EndedAt: 2025-03-31 15:35:51 -0400 (Mon, 31 Mar 2025) EllapsedTime: 22.8 seconds RetCode: 0 Status: OK