Package: banocc Version: 1.30.0 Command: chmod a+r banocc -R && F:\biocbuild\bbs-3.20-bioc\R\bin\R.exe CMD build --keep-empty-dirs --no-resave-data banocc StartedAt: 2025-01-27 17:27:06 -0500 (Mon, 27 Jan 2025) EndedAt: 2025-01-27 17:31:55 -0500 (Mon, 27 Jan 2025) EllapsedTime: 289.1 seconds RetCode: 0 Status: OK PackageFile: banocc_1.30.0.tar.gz PackageFileSize: 25.56 MiB