Package: banocc Version: 1.30.0 Command: /home/biocbuild/bbs-3.20-bioc/R/bin/R CMD build --keep-empty-dirs --no-resave-data --md5 banocc StartedAt: 2025-02-03 16:24:56 -0500 (Mon, 03 Feb 2025) EndedAt: 2025-02-03 16:27:48 -0500 (Mon, 03 Feb 2025) EllapsedTime: 172.2 seconds RetCode: 0 Status: OK PackageFile: banocc_1.30.0.tar.gz PackageFileSize: 26 MiB