Package: banocc Version: 1.30.0 Command: /home/biocbuild/R/R/bin/R CMD INSTALL banocc StartedAt: 2024-11-19 20:35:29 -0000 (Tue, 19 Nov 2024) EndedAt: 2024-11-19 20:35:41 -0000 (Tue, 19 Nov 2024) EllapsedTime: 12.1 seconds RetCode: 0 Status: OK