Package: banocc Version: 1.30.0 Command: /Library/Frameworks/R.framework/Resources/bin/R CMD check --install=check:banocc.install-out.txt --library=/Library/Frameworks/R.framework/Resources/library --no-vignettes --timings banocc_1.30.0.tar.gz StartedAt: 2025-04-01 11:24:08 -0400 (Tue, 01 Apr 2025) EndedAt: 2025-04-01 11:26:11 -0400 (Tue, 01 Apr 2025) EllapsedTime: 123.0 seconds RetCode: 0 Status: OK CheckDir: banocc.Rcheck Warnings: 0