Package: banocc Version: 1.30.0 Command: /Library/Frameworks/R.framework/Resources/bin/R CMD build --keep-empty-dirs --no-resave-data banocc StartedAt: 2025-03-31 19:03:35 -0400 (Mon, 31 Mar 2025) EndedAt: 2025-03-31 19:05:49 -0400 (Mon, 31 Mar 2025) EllapsedTime: 134.0 seconds RetCode: 0 Status: OK PackageFile: banocc_1.30.0.tar.gz PackageFileSize: 26.05 MiB