Package: bandle Version: 1.10.0 Command: /Library/Frameworks/R.framework/Resources/bin/R CMD INSTALL bandle StartedAt: 2025-01-30 16:31:08 -0500 (Thu, 30 Jan 2025) EndedAt: 2025-01-30 16:31:21 -0500 (Thu, 30 Jan 2025) EllapsedTime: 12.2 seconds RetCode: 1 Status: ERROR