Package: bamsignals Version: 1.38.0 Command: chmod a+r bamsignals -R && F:\biocbuild\bbs-3.20-bioc\R\bin\R.exe CMD build --keep-empty-dirs --no-resave-data bamsignals StartedAt: 2025-01-30 17:23:48 -0500 (Thu, 30 Jan 2025) EndedAt: 2025-01-30 17:24:45 -0500 (Thu, 30 Jan 2025) EllapsedTime: 56.9 seconds RetCode: 0 Status: OK PackageFile: bamsignals_1.38.0.tar.gz PackageFileSize: 2.677 MiB