Package: bamsignals Version: 1.38.0 Command: rm -rf bamsignals.buildbin-libdir && mkdir bamsignals.buildbin-libdir && F:\biocbuild\bbs-3.20-bioc\R\bin\R.exe CMD INSTALL --build --library=bamsignals.buildbin-libdir bamsignals_1.38.0.tar.gz StartedAt: 2025-01-31 08:10:56 -0500 (Fri, 31 Jan 2025) EndedAt: 2025-01-31 08:11:44 -0500 (Fri, 31 Jan 2025) EllapsedTime: 48.4 seconds RetCode: 0 Status: OK PackageFile: bamsignals_1.38.0.zip PackageFileSize: 6.768 MiB