Package: bamsignals Version: 1.38.0 Command: /Library/Frameworks/R.framework/Resources/bin/R CMD INSTALL bamsignals StartedAt: 2025-01-30 15:15:54 -0500 (Thu, 30 Jan 2025) EndedAt: 2025-01-30 15:16:41 -0500 (Thu, 30 Jan 2025) EllapsedTime: 47.5 seconds RetCode: 0 Status: OK