Package: bamsignals Version: 1.38.0 Command: /Library/Frameworks/R.framework/Resources/bin/R CMD INSTALL bamsignals StartedAt: 2025-01-27 15:21:00 -0500 (Mon, 27 Jan 2025) EndedAt: 2025-01-27 15:21:24 -0500 (Mon, 27 Jan 2025) EllapsedTime: 23.5 seconds RetCode: 0 Status: OK