Package: bamsignals Version: 1.38.0 Command: /Library/Frameworks/R.framework/Resources/bin/R CMD build --keep-empty-dirs --no-resave-data bamsignals StartedAt: 2025-01-27 19:08:06 -0500 (Mon, 27 Jan 2025) EndedAt: 2025-01-27 19:08:43 -0500 (Mon, 27 Jan 2025) EllapsedTime: 36.4 seconds RetCode: 0 Status: OK PackageFile: bamsignals_1.38.0.tar.gz PackageFileSize: 3.151 MiB