Package: bambu Version: 3.8.0 Command: F:\biocbuild\bbs-3.20-bioc\R\bin\R.exe CMD check --no-multiarch --install=check:bambu.install-out.txt --library=F:\biocbuild\bbs-3.20-bioc\R\library --no-vignettes --timings bambu_3.8.0.tar.gz StartedAt: 2025-01-27 23:04:38 -0500 (Mon, 27 Jan 2025) EndedAt: 2025-01-27 23:14:18 -0500 (Mon, 27 Jan 2025) EllapsedTime: 579.7 seconds RetCode: 0 Status: OK CheckDir: bambu.Rcheck Warnings: 0