Package: bambu Version: 3.8.3 Command: /Library/Frameworks/R.framework/Resources/bin/R CMD check --install=check:bambu.install-out.txt --library=/Library/Frameworks/R.framework/Resources/library --no-vignettes --timings bambu_3.8.3.tar.gz StartedAt: 2025-04-01 11:17:50 -0400 (Tue, 01 Apr 2025) EndedAt: 2025-04-01 11:26:13 -0400 (Tue, 01 Apr 2025) EllapsedTime: 503.3 seconds RetCode: 0 Status: OK CheckDir: bambu.Rcheck Warnings: 0