Package: bambu Version: 3.8.0 Command: rm -rf bambu.buildbin-libdir && mkdir bambu.buildbin-libdir && /Users/biocbuild/BBS/utils/build-universal.sh bambu_3.8.0.tar.gz /Library/Frameworks/R.framework/Resources/bin/R bambu.buildbin-libdir StartedAt: 2025-01-29 13:41:44 -0500 (Wed, 29 Jan 2025) EndedAt: 2025-01-29 13:42:51 -0500 (Wed, 29 Jan 2025) EllapsedTime: 66.8 seconds RetCode: 0 Status: OK PackageFile: bambu_3.8.0.tgz PackageFileSize: 2.089 MiB