Package: ballgown Version: 2.38.0 Command: rm -rf ballgown.buildbin-libdir && mkdir ballgown.buildbin-libdir && /Users/biocbuild/BBS/utils/build-universal.sh ballgown_2.38.0.tar.gz /Library/Frameworks/R.framework/Resources/bin/R ballgown.buildbin-libdir StartedAt: 2024-11-09 16:38:01 -0500 (Sat, 09 Nov 2024) EndedAt: 2024-11-09 16:38:17 -0500 (Sat, 09 Nov 2024) EllapsedTime: 16.3 seconds RetCode: 0 Status: OK PackageFile: ballgown_2.38.0.tgz PackageFileSize: 3.311 MiB