Package: bacon Version: 1.34.0 Command: /home/biocbuild/R/R/bin/R CMD INSTALL bacon StartedAt: 2025-02-03 20:35:32 -0000 (Mon, 03 Feb 2025) EndedAt: 2025-02-03 20:35:40 -0000 (Mon, 03 Feb 2025) EllapsedTime: 7.4 seconds RetCode: 0 Status: OK