Package: bacon Version: 1.34.0 Command: /home/biocbuild/R/R/bin/R CMD build --keep-empty-dirs --no-resave-data bacon StartedAt: 2025-01-30 21:39:58 -0000 (Thu, 30 Jan 2025) EndedAt: 2025-01-30 21:41:04 -0000 (Thu, 30 Jan 2025) EllapsedTime: 65.0 seconds RetCode: 0 Status: OK PackageFile: bacon_1.34.0.tar.gz PackageFileSize: 1.278 MiB