Package: bacon Version: 1.34.0 Command: /home/biocbuild/bbs-3.20-bioc/R/bin/R CMD INSTALL bacon StartedAt: 2025-02-03 15:27:17 -0500 (Mon, 03 Feb 2025) EndedAt: 2025-02-03 15:27:23 -0500 (Mon, 03 Feb 2025) EllapsedTime: 5.6 seconds RetCode: 0 Status: OK