Package: bacon Version: 1.34.0 Command: rm -rf bacon.buildbin-libdir && mkdir bacon.buildbin-libdir && /Users/biocbuild/BBS/utils/build-universal.sh bacon_1.34.0.tar.gz /Library/Frameworks/R.framework/Resources/bin/R bacon.buildbin-libdir StartedAt: 2025-02-04 12:29:09 -0500 (Tue, 04 Feb 2025) EndedAt: 2025-02-04 12:29:26 -0500 (Tue, 04 Feb 2025) EllapsedTime: 16.2 seconds RetCode: 0 Status: OK PackageFile: bacon_1.34.0.tgz PackageFileSize: 2.262 MiB