Package: bacon Version: 1.34.0 Command: /Library/Frameworks/R.framework/Resources/bin/R CMD check --install=check:bacon.install-out.txt --library=/Library/Frameworks/R.framework/Resources/library --no-vignettes --timings bacon_1.34.0.tar.gz StartedAt: 2025-01-31 11:31:40 -0500 (Fri, 31 Jan 2025) EndedAt: 2025-01-31 11:32:42 -0500 (Fri, 31 Jan 2025) EllapsedTime: 61.8 seconds RetCode: 0 Status: OK CheckDir: bacon.Rcheck Warnings: 0