Package: awst Version: 1.14.0 Command: /Library/Frameworks/R.framework/Resources/bin/R CMD INSTALL awst StartedAt: 2025-03-31 15:15:21 -0400 (Mon, 31 Mar 2025) EndedAt: 2025-03-31 15:16:03 -0400 (Mon, 31 Mar 2025) EllapsedTime: 42.7 seconds RetCode: 0 Status: OK