Package: autonomics Version: 1.14.8 Command: /home/biocbuild/R/R/bin/R CMD build --keep-empty-dirs --no-resave-data autonomics StartedAt: 2025-01-27 22:24:17 -0000 (Mon, 27 Jan 2025) EndedAt: 2025-01-27 22:27:17 -0000 (Mon, 27 Jan 2025) EllapsedTime: 180.1 seconds RetCode: 0 Status: OK PackageFile: autonomics_1.14.8.tar.gz PackageFileSize: 1.301 MiB