Package: autonomics Version: 1.14.9 Command: /Library/Frameworks/R.framework/Resources/bin/R CMD INSTALL autonomics StartedAt: 2025-03-31 15:28:58 -0400 (Mon, 31 Mar 2025) EndedAt: 2025-03-31 15:30:19 -0400 (Mon, 31 Mar 2025) EllapsedTime: 80.8 seconds RetCode: 0 Status: OK