Package: autonomics Version: 1.14.9 Command: /Library/Frameworks/R.framework/Resources/bin/R CMD check --install=check:autonomics.install-out.txt --library=/Library/Frameworks/R.framework/Resources/library --no-vignettes --timings autonomics_1.14.9.tar.gz StartedAt: 2025-03-31 23:29:48 -0400 (Mon, 31 Mar 2025) EndedAt: 2025-04-01 00:04:42 -0400 (Tue, 01 Apr 2025) EllapsedTime: 2094.0 seconds RetCode: 0 Status: OK CheckDir: autonomics.Rcheck Warnings: 0