Package: autonomics Version: 1.14.9 Command: /Library/Frameworks/R.framework/Resources/bin/R CMD build --keep-empty-dirs --no-resave-data autonomics StartedAt: 2025-03-31 16:58:04 -0400 (Mon, 31 Mar 2025) EndedAt: 2025-03-31 17:03:09 -0400 (Mon, 31 Mar 2025) EllapsedTime: 304.6 seconds RetCode: 0 Status: OK PackageFile: autonomics_1.14.9.tar.gz PackageFileSize: 2.518 MiB