Package: autonomics Version: 1.14.9 Command: rm -rf autonomics.buildbin-libdir && mkdir autonomics.buildbin-libdir && /Users/biocbuild/BBS/utils/build-universal.sh autonomics_1.14.9.tar.gz /Library/Frameworks/R.framework/Resources/bin/R autonomics.buildbin-libdir StartedAt: 2025-04-01 11:26:00 -0400 (Tue, 01 Apr 2025) EndedAt: 2025-04-01 11:27:29 -0400 (Tue, 01 Apr 2025) EllapsedTime: 89.9 seconds RetCode: 0 Status: OK PackageFile: autonomics_1.14.9.tgz PackageFileSize: 3.461 MiB