Package: autonomics Version: 1.14.8 Command: /Library/Frameworks/R.framework/Resources/bin/R CMD build --keep-empty-dirs --no-resave-data autonomics StartedAt: 2025-01-27 19:02:46 -0500 (Mon, 27 Jan 2025) EndedAt: 2025-01-27 19:05:03 -0500 (Mon, 27 Jan 2025) EllapsedTime: 136.6 seconds RetCode: 0 Status: OK PackageFile: autonomics_1.14.8.tar.gz PackageFileSize: 2.518 MiB