Package: attract Version: 1.58.0 Command: rm -rf attract.buildbin-libdir && mkdir attract.buildbin-libdir && F:\biocbuild\bbs-3.20-bioc\R\bin\R.exe CMD INSTALL --build --library=attract.buildbin-libdir attract_1.58.0.tar.gz StartedAt: 2025-04-01 07:41:50 -0400 (Tue, 01 Apr 2025) EndedAt: 2025-04-01 07:42:23 -0400 (Tue, 01 Apr 2025) EllapsedTime: 32.4 seconds RetCode: 0 Status: OK PackageFile: attract_1.58.0.zip PackageFileSize: 4.279 MiB