Package: attract Version: 1.58.0 Command: /Library/Frameworks/R.framework/Resources/bin/R CMD build --keep-empty-dirs --no-resave-data attract StartedAt: 2025-01-27 17:07:17 -0500 (Mon, 27 Jan 2025) EndedAt: 2025-01-27 17:12:29 -0500 (Mon, 27 Jan 2025) EllapsedTime: 312.0 seconds RetCode: 0 Status: OK PackageFile: attract_1.58.0.tar.gz PackageFileSize: 4.294 MiB