Package: attract Version: 1.58.0 Command: /Library/Frameworks/R.framework/Resources/bin/R CMD INSTALL attract StartedAt: 2025-01-27 17:19:00 -0500 (Mon, 27 Jan 2025) EndedAt: 2025-01-27 17:19:26 -0500 (Mon, 27 Jan 2025) EllapsedTime: 26.4 seconds RetCode: 0 Status: OK