Package: atena Version: 1.12.0 Command: rm -rf atena.buildbin-libdir && mkdir atena.buildbin-libdir && /Users/biocbuild/BBS/utils/build-universal.sh atena_1.12.0.tar.gz /Library/Frameworks/R.framework/Resources/bin/R atena.buildbin-libdir StartedAt: 2025-01-28 12:38:59 -0500 (Tue, 28 Jan 2025) EndedAt: 2025-01-28 12:40:32 -0500 (Tue, 28 Jan 2025) EllapsedTime: 93.2 seconds RetCode: 0 Status: OK PackageFile: atena_1.12.0.tgz PackageFileSize: 1.753 MiB