Package: atena Version: 1.12.0 Command: /Library/Frameworks/R.framework/Resources/bin/R CMD INSTALL atena StartedAt: 2025-01-27 16:01:10 -0500 (Mon, 27 Jan 2025) EndedAt: 2025-01-27 16:01:58 -0500 (Mon, 27 Jan 2025) EllapsedTime: 47.6 seconds RetCode: 0 Status: OK