Package: atSNP Version: 1.22.0 Command: chmod a+r atSNP -R && F:\biocbuild\bbs-3.20-bioc\R\bin\R.exe CMD build --keep-empty-dirs --no-resave-data atSNP StartedAt: 2025-02-03 17:33:45 -0500 (Mon, 03 Feb 2025) EndedAt: 2025-02-03 17:35:56 -0500 (Mon, 03 Feb 2025) EllapsedTime: 130.7 seconds RetCode: 0 Status: OK PackageFile: atSNP_1.22.0.tar.gz PackageFileSize: 829.2 KiB