Package: atSNP Version: 1.22.0 Command: rm -rf atSNP.buildbin-libdir && mkdir atSNP.buildbin-libdir && F:\biocbuild\bbs-3.20-bioc\R\bin\R.exe CMD INSTALL --build --library=atSNP.buildbin-libdir atSNP_1.22.0.tar.gz StartedAt: 2025-02-04 07:59:40 -0500 (Tue, 04 Feb 2025) EndedAt: 2025-02-04 08:00:48 -0500 (Tue, 04 Feb 2025) EllapsedTime: 67.6 seconds RetCode: 0 Status: OK PackageFile: atSNP_1.22.0.zip PackageFileSize: 1.289 MiB