Package: atSNP Version: 1.21.0 Command: chmod a+r atSNP -R && C:\Users\biocbuild\bbs-3.20-bioc\R\bin\R.exe CMD build --keep-empty-dirs --no-resave-data atSNP StartedAt: 2024-07-15 16:33:16 -0400 (Mon, 15 Jul 2024) EndedAt: 2024-07-15 16:34:49 -0400 (Mon, 15 Jul 2024) EllapsedTime: 93.1 seconds RetCode: 0 Status: OK PackageFile: atSNP_1.21.0.tar.gz PackageFileSize: 829.3 KiB