Package: arrayQualityMetrics Version: 3.62.0 Command: /home/biocbuild/R/R/bin/R CMD INSTALL arrayQualityMetrics StartedAt: 2025-01-27 21:45:57 -0000 (Mon, 27 Jan 2025) EndedAt: 2025-01-27 21:46:28 -0000 (Mon, 27 Jan 2025) EllapsedTime: 30.1 seconds RetCode: 0 Status: OK