Package: arrayQualityMetrics Version: 3.62.0 Command: /home/biocbuild/R/R/bin/R CMD build --keep-empty-dirs --no-resave-data arrayQualityMetrics StartedAt: 2025-01-27 22:20:20 -0000 (Mon, 27 Jan 2025) EndedAt: 2025-01-27 22:27:15 -0000 (Mon, 27 Jan 2025) EllapsedTime: 415.1 seconds RetCode: 0 Status: OK PackageFile: arrayQualityMetrics_3.62.0.tar.gz PackageFileSize: 583.5 KiB