Package: arrayQualityMetrics Version: 3.61.0 Command: F:\biocbuild\bbs-3.20-bioc\R\bin\R.exe CMD INSTALL arrayQualityMetrics StartedAt: 2024-06-09 16:31:58 -0400 (Sun, 09 Jun 2024) EndedAt: 2024-06-09 16:32:41 -0400 (Sun, 09 Jun 2024) EllapsedTime: 42.3 seconds RetCode: 0 Status: OK