Package: arrayQuality Version: 1.84.0 Command: /home/biocbuild/R/R/bin/R CMD INSTALL arrayQuality StartedAt: 2025-02-03 20:26:00 -0000 (Mon, 03 Feb 2025) EndedAt: 2025-02-03 20:26:09 -0000 (Mon, 03 Feb 2025) EllapsedTime: 9.1 seconds RetCode: 0 Status: OK