Package: arrayQuality Version: 1.84.0 Command: /home/biocbuild/R/R/bin/R CMD check --install=check:arrayQuality.install-out.txt --library=/home/biocbuild/R/R/site-library --no-vignettes --timings arrayQuality_1.84.0.tar.gz StartedAt: 2025-02-04 04:24:10 -0000 (Tue, 04 Feb 2025) EndedAt: 2025-02-04 04:25:14 -0000 (Tue, 04 Feb 2025) EllapsedTime: 64.1 seconds RetCode: 0 Status: WARNINGS CheckDir: arrayQuality.Rcheck Warnings: 1