Package: arrayQuality Version: 1.84.0 Command: /home/biocbuild/R/R/bin/R CMD build --keep-empty-dirs --no-resave-data arrayQuality StartedAt: 2025-01-27 22:20:14 -0000 (Mon, 27 Jan 2025) EndedAt: 2025-01-27 22:20:24 -0000 (Mon, 27 Jan 2025) EllapsedTime: 10.0 seconds RetCode: 0 Status: OK PackageFile: arrayQuality_1.84.0.tar.gz PackageFileSize: 12.82 MiB