Package: arrayQuality Version: 1.84.0 Command: /home/biocbuild/bbs-3.20-bioc/R/bin/R CMD check --install=check:arrayQuality.install-out.txt --library=/home/biocbuild/bbs-3.20-bioc/R/site-library --timings arrayQuality_1.84.0.tar.gz StartedAt: 2025-01-27 20:50:40 -0500 (Mon, 27 Jan 2025) EndedAt: 2025-01-27 20:51:12 -0500 (Mon, 27 Jan 2025) EllapsedTime: 32.0 seconds RetCode: 0 Status: WARNINGS CheckDir: arrayQuality.Rcheck Warnings: 1