Package: arrayQuality Version: 1.84.0 Command: /Library/Frameworks/R.framework/Resources/bin/R CMD INSTALL arrayQuality StartedAt: 2025-02-03 15:18:27 -0500 (Mon, 03 Feb 2025) EndedAt: 2025-02-03 15:18:33 -0500 (Mon, 03 Feb 2025) EllapsedTime: 6.8 seconds RetCode: 0 Status: OK